BEGIN:VCALENDAR
VERSION:2.0
PRODID:icalendar-ruby
CALSCALE:GREGORIAN
METHOD:PUBLISH
BEGIN:VEVENT
DTSTAMP:20260421T183240Z
UID:6-474861@stlukescambridge.ca
DTSTART:20261101T153000Z
DTEND:20261101T170000Z
CLASS:PUBLIC
CREATED:20260421T122853
DESCRIPTION:
LAST-MODIFIED:20260421T122853
LOCATION:
SUMMARY:Sunday Worship
URL;VALUE=URI:https://stlukescambridge.ca/events/sunday-worship/2026-11-01
END:VEVENT
END:VCALENDAR
