BEGIN:VCALENDAR
VERSION:2.0
PRODID:icalendar-ruby
CALSCALE:GREGORIAN
METHOD:PUBLISH
BEGIN:VEVENT
DTSTAMP:20260421T124726Z
UID:6-474608@stlukescambridge.ca
DTSTART:20261011T143000Z
DTEND:20261011T160000Z
CLASS:PUBLIC
CREATED:20260421T071511
DESCRIPTION:
LAST-MODIFIED:20260421T071511
LOCATION:
SUMMARY:Sunday Worship
URL;VALUE=URI:https://stlukescambridge.ca/events/sunday-worship/2026-10-11
END:VEVENT
END:VCALENDAR
